BEGIN:VCALENDAR
PRODID:-//Pixl8//Eventfolio//EN
VERSION:2.0
X-WR-TIMEZONE:Europe/London
CALSCALE:GREGORIAN
METHOD:PUBLISH
CLASS:PUBLIC
BEGIN:VTIMEZONE
TZID:Europe/London
LAST-MODIFIED:20260306T231828Z
TZURL:https://www.tzurl.org/zoneinfo-outlook/Europe/London
X-LIC-LOCATION:Europe/London
BEGIN:DAYLIGHT
TZNAME:BST
TZOFFSETFROM:+0000
TZOFFSETTO:+0100
DTSTART:19700329T010000
RRULE:FREQ=YEARLY;BYMONTH=3;BYDAY=-1SU
END:DAYLIGHT
BEGIN:STANDARD
TZNAME:GMT
TZOFFSETFROM:+0100
TZOFFSETTO:+0000
DTSTART:19701025T020000
RRULE:FREQ=YEARLY;BYMONTH=10;BYDAY=-1SU
END:STANDARD
END:VTIMEZONE
BEGIN:VEVENT
DTSTART;TZID=Europe/London:20260616T120000
DTEND;TZID=Europe/London:20260616T130000
DTSTAMP:20260422T064234Z
UID:{7E570DDB-7BB6-4D8C-A807BB8D21CE64FE}
LOCATION:
SUMMARY:Stay compliant: Sponsorship in 2026
DESCRIPTION:Gain the knowledge and practical guidance needed to manage sponsorship responsibilities with confidence in 2026.\n
 \n
 Event details: https://www.homecareassociation.org.uk/trainingandevents/stay-compliant-sponsorship-in-2026.html
PRIORITY:1
END:VEVENT
END:VCALENDAR