BEGIN:VCALENDAR
PRODID:-//Pixl8//Eventfolio//EN
VERSION:2.0
X-WR-TIMEZONE:Etc/GMT
CALSCALE:GREGORIAN
METHOD:PUBLISH
CLASS:PUBLIC
BEGIN:VTIMEZONE
TZID:Etc/GMT
LAST-MODIFIED:20260306T231828Z
TZURL:https://www.tzurl.org/zoneinfo-outlook/Etc/GMT
X-LIC-LOCATION:Etc/GMT
BEGIN:STANDARD
TZNAME:GMT
TZOFFSETFROM:+0000
TZOFFSETTO:+0000
DTSTART:19700101T000000
END:STANDARD
END:VTIMEZONE
BEGIN:VEVENT
DTSTART;TZID=Etc/GMT:20260617T093000
DTEND;TZID=Etc/GMT:20260617T164500
DTSTAMP:20260420T183202Z
UID:{7CA488E0-4452-4420-AC56985C43C021E3}
LOCATION:
SUMMARY:Safeguarding for Homecare Providers
DESCRIPTION:This workshop helps organisations look at how they can ensure the safety well-being of people in need of care and support services, based on the principles of the Care Act 2014.\n
 \n
 Event details: https://www.homecareassociation.org.uk/trainingandevents/safeguarding-for-homecare-providers170626.html
PRIORITY:1
END:VEVENT
END:VCALENDAR