BEGIN:VCALENDAR
PRODID:-//Pixl8//Eventfolio//EN
VERSION:2.0
X-WR-TIMEZONE:Europe/London
CALSCALE:GREGORIAN
METHOD:PUBLISH
CLASS:PUBLIC
BEGIN:VTIMEZONE
TZID:Europe/London
LAST-MODIFIED:20260306T231828Z
TZURL:https://www.tzurl.org/zoneinfo-outlook/Europe/London
X-LIC-LOCATION:Europe/London
BEGIN:DAYLIGHT
TZNAME:BST
TZOFFSETFROM:+0000
TZOFFSETTO:+0100
DTSTART:19700329T010000
RRULE:FREQ=YEARLY;BYMONTH=3;BYDAY=-1SU
END:DAYLIGHT
BEGIN:STANDARD
TZNAME:GMT
TZOFFSETFROM:+0100
TZOFFSETTO:+0000
DTSTART:19701025T020000
RRULE:FREQ=YEARLY;BYMONTH=10;BYDAY=-1SU
END:STANDARD
END:VTIMEZONE
BEGIN:VEVENT
DTSTART;TZID=Europe/London:20250529T093000
DTEND;TZID=Europe/London:20250529T164500
DTSTAMP:20260423T173813Z
UID:{0B673673-5D34-4723-BBBF5A195476157D}
LOCATION:
SUMMARY:Medication - Train the Trainer 
DESCRIPTION:This workshop is aimed at medication trainers and those with practical experience of medication support moving into a training or supervision role.\n
 \n
 Event details: https://www.homecareassociation.org.uk/trainingandevents/medication-train-the-trainer290525.html
PRIORITY:1
END:VEVENT
END:VCALENDAR