BEGIN:VCALENDAR
PRODID:-//Pixl8//Eventfolio//EN
VERSION:2.0
X-WR-TIMEZONE:Europe/London
CALSCALE:GREGORIAN
METHOD:PUBLISH
CLASS:PUBLIC
BEGIN:VTIMEZONE
TZID:Europe/London
LAST-MODIFIED:20260306T231828Z
TZURL:https://www.tzurl.org/zoneinfo-outlook/Europe/London
X-LIC-LOCATION:Europe/London
BEGIN:DAYLIGHT
TZNAME:BST
TZOFFSETFROM:+0000
TZOFFSETTO:+0100
DTSTART:19700329T010000
RRULE:FREQ=YEARLY;BYMONTH=3;BYDAY=-1SU
END:DAYLIGHT
BEGIN:STANDARD
TZNAME:GMT
TZOFFSETFROM:+0100
TZOFFSETTO:+0000
DTSTART:19701025T020000
RRULE:FREQ=YEARLY;BYMONTH=10;BYDAY=-1SU
END:STANDARD
END:VTIMEZONE
BEGIN:VEVENT
DTSTART;TZID=Europe/London:20240704T093000
DTEND;TZID=Europe/London:20240704T164500
DTSTAMP:20260422T005444Z
UID:{58BF0046-A152-49C4-A7AA5228D468C0CF}
LOCATION:
SUMMARY:Medication train the trainer
DESCRIPTION:This workshop is aimed at medication trainers and those with practical experience of medication support moving in to a training or supervision role.\n
 \n
 Event details: https://www.homecareassociation.org.uk/trainingandevents/medication-train-the-trainer040724.html
PRIORITY:1
END:VEVENT
END:VCALENDAR