BEGIN:VCALENDAR
PRODID:-//Pixl8//Eventfolio//EN
VERSION:2.0
X-WR-TIMEZONE:Europe/London
CALSCALE:GREGORIAN
METHOD:PUBLISH
CLASS:PUBLIC
BEGIN:VTIMEZONE
TZID:Europe/London
LAST-MODIFIED:20260306T231828Z
TZURL:https://www.tzurl.org/zoneinfo-outlook/Europe/London
X-LIC-LOCATION:Europe/London
BEGIN:DAYLIGHT
TZNAME:BST
TZOFFSETFROM:+0000
TZOFFSETTO:+0100
DTSTART:19700329T010000
RRULE:FREQ=YEARLY;BYMONTH=3;BYDAY=-1SU
END:DAYLIGHT
BEGIN:STANDARD
TZNAME:GMT
TZOFFSETFROM:+0100
TZOFFSETTO:+0000
DTSTART:19701025T020000
RRULE:FREQ=YEARLY;BYMONTH=10;BYDAY=-1SU
END:STANDARD
END:VTIMEZONE
BEGIN:VEVENT
DTSTART;TZID=Europe/London:20240620T093000
DTEND;TZID=Europe/London:20240620T163000
DTSTAMP:20260424T001033Z
UID:{34361779-ABEA-4CD2-8180F6EC432D1B7F}
LOCATION:
SUMMARY:How to Grow your Homecare business
DESCRIPTION:This workshop is aimed at new and smaller organisations who are starting to plan the next stage in their progress.\n
 \n
 Event details: https://www.homecareassociation.org.uk/trainingandevents/how-to-grow-your-homecare-business200624.html
PRIORITY:1
END:VEVENT
END:VCALENDAR