BEGIN:VCALENDAR
PRODID:-//Pixl8//Eventfolio//EN
VERSION:2.0
X-WR-TIMEZONE:Europe/London
CALSCALE:GREGORIAN
METHOD:PUBLISH
CLASS:PUBLIC
BEGIN:VTIMEZONE
TZID:Europe/London
LAST-MODIFIED:20260306T231828Z
TZURL:https://www.tzurl.org/zoneinfo-outlook/Europe/London
X-LIC-LOCATION:Europe/London
BEGIN:DAYLIGHT
TZNAME:BST
TZOFFSETFROM:+0000
TZOFFSETTO:+0100
DTSTART:19700329T010000
RRULE:FREQ=YEARLY;BYMONTH=3;BYDAY=-1SU
END:DAYLIGHT
BEGIN:STANDARD
TZNAME:GMT
TZOFFSETFROM:+0100
TZOFFSETTO:+0000
DTSTART:19701025T020000
RRULE:FREQ=YEARLY;BYMONTH=10;BYDAY=-1SU
END:STANDARD
END:VTIMEZONE
BEGIN:VEVENT
DTSTART;TZID=Europe/London:20260226T090000
DTEND;TZID=Europe/London:20260226T140000
DTSTAMP:20260423T125501Z
UID:{4BA99F5E-92E6-4077-A71E5F462A60221C}
LOCATION:Almondsbury Inn & Lounge
SUMMARY:Homecare Association Info Event - South West
DESCRIPTION:Get your free spot at our upcoming regional meet in Bristol - open to both Homecare Association members and non-members.\n
 \n
 Event details: https://www.homecareassociation.org.uk/trainingandevents/homecare-association-info-event-south-west.html
PRIORITY:1
END:VEVENT
END:VCALENDAR