BEGIN:VCALENDAR
PRODID:-//Pixl8//Eventfolio//EN
VERSION:2.0
X-WR-TIMEZONE:Europe/London
CALSCALE:GREGORIAN
METHOD:PUBLISH
CLASS:PUBLIC
BEGIN:VTIMEZONE
TZID:Europe/London
LAST-MODIFIED:20260306T231828Z
TZURL:https://www.tzurl.org/zoneinfo-outlook/Europe/London
X-LIC-LOCATION:Europe/London
BEGIN:DAYLIGHT
TZNAME:BST
TZOFFSETFROM:+0000
TZOFFSETTO:+0100
DTSTART:19700329T010000
RRULE:FREQ=YEARLY;BYMONTH=3;BYDAY=-1SU
END:DAYLIGHT
BEGIN:STANDARD
TZNAME:GMT
TZOFFSETFROM:+0100
TZOFFSETTO:+0000
DTSTART:19701025T020000
RRULE:FREQ=YEARLY;BYMONTH=10;BYDAY=-1SU
END:STANDARD
END:VTIMEZONE
BEGIN:VEVENT
DTSTART;TZID=Europe/London:20240513T103000
DTEND;TZID=Europe/London:20240513T113000
DTSTAMP:20260423T044753Z
UID:{61E7A1F4-EE5F-439C-8B2515F751F1A0B6}
LOCATION:
SUMMARY:Buying or selling a homecare business
DESCRIPTION:Are you thinking of selling your homecare business or buying a new homecare business?\n
 \n
 This webinar is designed for those who want to learn transaction secrets in a competitive and complex market.\n
 \n
 Event details: https://www.homecareassociation.org.uk/trainingandevents/buying-or-selling-a-homecare-business.html
PRIORITY:1
END:VEVENT
END:VCALENDAR