BEGIN:VCALENDAR
PRODID:-//Pixl8//Eventfolio//EN
VERSION:2.0
X-WR-TIMEZONE:Europe/London
CALSCALE:GREGORIAN
METHOD:PUBLISH
CLASS:PUBLIC
BEGIN:VTIMEZONE
TZID:Europe/London
LAST-MODIFIED:20260306T231828Z
TZURL:https://www.tzurl.org/zoneinfo-outlook/Europe/London
X-LIC-LOCATION:Europe/London
BEGIN:DAYLIGHT
TZNAME:BST
TZOFFSETFROM:+0000
TZOFFSETTO:+0100
DTSTART:19700329T010000
RRULE:FREQ=YEARLY;BYMONTH=3;BYDAY=-1SU
END:DAYLIGHT
BEGIN:STANDARD
TZNAME:GMT
TZOFFSETFROM:+0100
TZOFFSETTO:+0000
DTSTART:19701025T020000
RRULE:FREQ=YEARLY;BYMONTH=10;BYDAY=-1SU
END:STANDARD
END:VTIMEZONE
BEGIN:VEVENT
DTSTART;TZID=Europe/London:20250725T140000
DTEND;TZID=Europe/London:20250725T153000
DTSTAMP:20260426T050203Z
UID:{0A8B51B9-705B-4171-B6AEABB1CCB9A972}
LOCATION:
SUMMARY:All Members Meeting – Representation Update
DESCRIPTION:Throughout 2025, we will be running monthly webinars for Homecare Association Members to update you, highlight our work and listen to your feedback.\n
 \n
 Event details: https://www.homecareassociation.org.uk/trainingandevents/all-members-meeting-representation-update240725.html
PRIORITY:1
END:VEVENT
END:VCALENDAR